BEGIN:VCALENDAR
VERSION:2.0
PRODID:-//La recyclerie du sud 974 - ECPv6.15.18//NONSGML v1.0//EN
CALSCALE:GREGORIAN
METHOD:PUBLISH
X-ORIGINAL-URL:https://larecycleriedusud974.re
X-WR-CALDESC:Évènements pour La recyclerie du sud 974
REFRESH-INTERVAL;VALUE=DURATION:PT1H
X-Robots-Tag:noindex
X-PUBLISHED-TTL:PT1H
BEGIN:VTIMEZONE
TZID:Europe/Paris
BEGIN:DAYLIGHT
TZOFFSETFROM:+0100
TZOFFSETTO:+0200
TZNAME:CEST
DTSTART:20250330T010000
END:DAYLIGHT
BEGIN:STANDARD
TZOFFSETFROM:+0200
TZOFFSETTO:+0100
TZNAME:CET
DTSTART:20251026T010000
END:STANDARD
BEGIN:DAYLIGHT
TZOFFSETFROM:+0100
TZOFFSETTO:+0200
TZNAME:CEST
DTSTART:20260329T010000
END:DAYLIGHT
BEGIN:STANDARD
TZOFFSETFROM:+0200
TZOFFSETTO:+0100
TZNAME:CET
DTSTART:20261025T010000
END:STANDARD
BEGIN:DAYLIGHT
TZOFFSETFROM:+0100
TZOFFSETTO:+0200
TZNAME:CEST
DTSTART:20270328T010000
END:DAYLIGHT
BEGIN:STANDARD
TZOFFSETFROM:+0200
TZOFFSETTO:+0100
TZNAME:CET
DTSTART:20271031T010000
END:STANDARD
END:VTIMEZONE
BEGIN:VEVENT
DTSTART;TZID=Europe/Paris:20260128T131500
DTEND;TZID=Europe/Paris:20260128T161500
DTSTAMP:20260420T172556
CREATED:20260126T085946Z
LAST-MODIFIED:20260126T094150Z
UID:2679-1769606100-1769616900@larecycleriedusud974.re
SUMMARY:Réparali sur le Tampon en janvier
DESCRIPTION:Prochain Réparali  au Tampon: \nMercredi 28 Janvier 2026 \nOn vous attend nombreu. ses \nNous sommes toujours à la recherche de réparateurs bénévoles. \nUn seul objet a réparer par personne svp
URL:https://larecycleriedusud974.re/evenements/reparali-sur-le-tampon-janvier/
LOCATION:Médiathèque du  Tampon\, 16 Rue Victor le Vigoureux\, Le Tampon\, La Réunion\, 97430
ATTACH;FMTTYPE=image/png:https://larecycleriedusud974.re/wp-content/uploads/2026/01/Banner-atelier-annule.png
END:VEVENT
END:VCALENDAR