BEGIN:VCALENDAR
VERSION:2.0
PRODID:-//La recyclerie du sud 974 - ECPv6.15.18//NONSGML v1.0//EN
CALSCALE:GREGORIAN
METHOD:PUBLISH
X-WR-CALNAME:La recyclerie du sud 974
X-ORIGINAL-URL:https://larecycleriedusud974.re
X-WR-CALDESC:Évènements pour La recyclerie du sud 974
REFRESH-INTERVAL;VALUE=DURATION:PT1H
X-Robots-Tag:noindex
X-PUBLISHED-TTL:PT1H
BEGIN:VTIMEZONE
TZID:Europe/Paris
BEGIN:DAYLIGHT
TZOFFSETFROM:+0100
TZOFFSETTO:+0200
TZNAME:CEST
DTSTART:20250330T010000
END:DAYLIGHT
BEGIN:STANDARD
TZOFFSETFROM:+0200
TZOFFSETTO:+0100
TZNAME:CET
DTSTART:20251026T010000
END:STANDARD
BEGIN:DAYLIGHT
TZOFFSETFROM:+0100
TZOFFSETTO:+0200
TZNAME:CEST
DTSTART:20260329T010000
END:DAYLIGHT
BEGIN:STANDARD
TZOFFSETFROM:+0200
TZOFFSETTO:+0100
TZNAME:CET
DTSTART:20261025T010000
END:STANDARD
BEGIN:DAYLIGHT
TZOFFSETFROM:+0100
TZOFFSETTO:+0200
TZNAME:CEST
DTSTART:20270328T010000
END:DAYLIGHT
BEGIN:STANDARD
TZOFFSETFROM:+0200
TZOFFSETTO:+0100
TZNAME:CET
DTSTART:20271031T010000
END:STANDARD
END:VTIMEZONE
BEGIN:VEVENT
DTSTART;TZID=Europe/Paris:20260311T140000
DTEND;TZID=Europe/Paris:20260311T170000
DTSTAMP:20260420T144058
CREATED:20260122T093607Z
LAST-MODIFIED:20260126T093041Z
UID:2601-1773237600-1773248400@larecycleriedusud974.re
SUMMARY:Réparali sur Petite-Île en mars
DESCRIPTION:Prochain Réparali sur Petite-Île : \nMercredi 11 Mars 2026 \nOn vous attend nombreu. ses \nNous sommes toujours à la recherche de réparateurs bénévoles. \nUn seul objet a réparer par personne svp
URL:https://larecycleriedusud974.re/evenements/reparali-sur-petite-ile-en-mars/
LOCATION:Ecole des Alpinias\, 24 rue Général De Gaulle\, Petite-Île\, 97429\, Reunion
ATTACH;FMTTYPE=image/png:https://larecycleriedusud974.re/wp-content/uploads/2026/01/website-Banner-Reparali.png
END:VEVENT
BEGIN:VEVENT
DTSTART;TZID=Europe/Paris:20260325T131500
DTEND;TZID=Europe/Paris:20260325T161500
DTSTAMP:20260420T144058
CREATED:20260122T094244Z
LAST-MODIFIED:20260126T092120Z
UID:2612-1774444500-1774455300@larecycleriedusud974.re
SUMMARY:Réparali sur le Tampon
DESCRIPTION:Prochain Réparali sur le Tampon : \nMercredi 25 Mars 2026 \nOn vous attend nombreu. ses \nNous sommes toujours à la recherche de réparateurs bénévoles. \nUn seul objet a réparer par personne svp
URL:https://larecycleriedusud974.re/evenements/reparali-sur-le-tampon-en-mars/
LOCATION:Médiathèque du  Tampon\, 16 Rue Victor le Vigoureux\, Le Tampon\, La Réunion\, 97430
ATTACH;FMTTYPE=image/png:https://larecycleriedusud974.re/wp-content/uploads/2026/01/website-Banner-Reparali.png
END:VEVENT
END:VCALENDAR