BEGIN:VCALENDAR
VERSION:2.0
PRODID:-//La recyclerie du sud 974 - ECPv6.15.18//NONSGML v1.0//EN
CALSCALE:GREGORIAN
METHOD:PUBLISH
X-ORIGINAL-URL:https://larecycleriedusud974.re
X-WR-CALDESC:Évènements pour La recyclerie du sud 974
REFRESH-INTERVAL;VALUE=DURATION:PT1H
X-Robots-Tag:noindex
X-PUBLISHED-TTL:PT1H
BEGIN:VTIMEZONE
TZID:Europe/Paris
BEGIN:DAYLIGHT
TZOFFSETFROM:+0100
TZOFFSETTO:+0200
TZNAME:CEST
DTSTART:20250330T010000
END:DAYLIGHT
BEGIN:STANDARD
TZOFFSETFROM:+0200
TZOFFSETTO:+0100
TZNAME:CET
DTSTART:20251026T010000
END:STANDARD
BEGIN:DAYLIGHT
TZOFFSETFROM:+0100
TZOFFSETTO:+0200
TZNAME:CEST
DTSTART:20260329T010000
END:DAYLIGHT
BEGIN:STANDARD
TZOFFSETFROM:+0200
TZOFFSETTO:+0100
TZNAME:CET
DTSTART:20261025T010000
END:STANDARD
BEGIN:DAYLIGHT
TZOFFSETFROM:+0100
TZOFFSETTO:+0200
TZNAME:CEST
DTSTART:20270328T010000
END:DAYLIGHT
BEGIN:STANDARD
TZOFFSETFROM:+0200
TZOFFSETTO:+0100
TZNAME:CET
DTSTART:20271031T010000
END:STANDARD
END:VTIMEZONE
BEGIN:VEVENT
DTSTART;TZID=Europe/Paris:20260205T090000
DTEND;TZID=Europe/Paris:20260205T120000
DTSTAMP:20260420T174831
CREATED:20260129T085534Z
LAST-MODIFIED:20260129T090852Z
UID:2710-1770282000-1770292800@larecycleriedusud974.re
SUMMARY:Atelier Couture à Ravine blanche
DESCRIPTION:Prochain atelier couture à Saint-Pierre à Ravine blanche : \nJeudi 05 Février 2026 \nAtelier Gratuit !
URL:https://larecycleriedusud974.re/evenements/atelier-couture-ravine-blanche-05-feverier/
LOCATION:Ravine Blanche\, 74 avenue Luc Donat\, Saint-Pierre\, 97410\, Reunion
ATTACH;FMTTYPE=image/png:https://larecycleriedusud974.re/wp-content/uploads/2026/01/website-Banner-Couture.png
END:VEVENT
BEGIN:VEVENT
DTSTART;TZID=Europe/Paris:20260212T133000
DTEND;TZID=Europe/Paris:20260212T160000
DTSTAMP:20260420T174831
CREATED:20260129T090221Z
LAST-MODIFIED:20260129T090221Z
UID:2717-1770903000-1770912000@larecycleriedusud974.re
SUMMARY:Atelier Couture à Ravine des Cabris
DESCRIPTION:Prochain atelier couture à Saint-Pierre à la Ravine des Cabris (association IPA)  : \nJeudi 12 Février 2026 \nAtelier Gratuit !
URL:https://larecycleriedusud974.re/evenements/atelier-couture-ravine-cabris-fevrier/
LOCATION:Ravine des cabris\, Saint-Pierre\, 97410\, Reunion
ATTACH;FMTTYPE=image/png:https://larecycleriedusud974.re/wp-content/uploads/2026/01/website-Banner-Couture.png
END:VEVENT
BEGIN:VEVENT
DTSTART;TZID=Europe/Paris:20260217T090000
DTEND;TZID=Europe/Paris:20260217T120000
DTSTAMP:20260420T174831
CREATED:20260122T171321Z
LAST-MODIFIED:20260126T090541Z
UID:2666-1771318800-1771329600@larecycleriedusud974.re
SUMMARY:Atelier Couture à Saint-Pierre (Basse-terre)
DESCRIPTION:Prochain atelier couture à Saint-Pierre  : \nMardi 17 Février 2026 dans le quartier de basse terre. \nAtelier Gratuit !
URL:https://larecycleriedusud974.re/evenements/atelier-couture-a-saint-pierre-basse-terre-fevrier/
LOCATION:Quartier Basse Terre\, Quartier Basse Terre\, Saint-Pierre\, 97416\, Reunion
ATTACH;FMTTYPE=image/png:https://larecycleriedusud974.re/wp-content/uploads/2026/01/website-Banner-Couture.png
END:VEVENT
BEGIN:VEVENT
DTSTART;TZID=Europe/Paris:20260226T090000
DTEND;TZID=Europe/Paris:20260226T120000
DTSTAMP:20260420T174831
CREATED:20260129T085854Z
LAST-MODIFIED:20260129T085854Z
UID:2714-1772096400-1772107200@larecycleriedusud974.re
SUMMARY:Atelier Couture à Ravine blanche
DESCRIPTION:Prochain atelier couture à Saint-Pierre à Ravine blanche : \nJeudi 26 Février 2026 \nAtelier Gratuit !
URL:https://larecycleriedusud974.re/evenements/atelier-couture-ravine-blanche-26-fevrier/
LOCATION:Ravine Blanche\, 74 avenue Luc Donat\, Saint-Pierre\, 97410\, Reunion
ATTACH;FMTTYPE=image/png:https://larecycleriedusud974.re/wp-content/uploads/2026/01/website-Banner-Couture.png
END:VEVENT
END:VCALENDAR